BEGIN:VCALENDAR
VERSION:2.0
PRODID:< http://www.open2c.de/ >
METHOD:PUBLISH
X-PUBLISHED-TTL:PT12H
BEGIN:VEVENT
CREATED:20230616T101740Z
LAST-MODIFIED:20240624T122322Z
DTSTAMP:20260421T173118Z
DTSTART;VALUE=DATE:20260421
CATEGORIES:Grundschule Berg
SUMMARY:Wiesenfestumzug Schulkinder
UID:1097da59c86a9433609c4f2fea3f27fd@d07472ac6746158869353e6051763beb
END:VEVENT
END:VCALENDAR