BEGIN:VCALENDAR
VERSION:2.0
PRODID:< http://www.open2c.de/ >
METHOD:PUBLISH
X-PUBLISHED-TTL:PT12H
BEGIN:VEVENT
CREATED:20230421T101110Z
LAST-MODIFIED:20260109T073443Z
DTSTAMP:20260420T113805Z
DTSTART:20260525T220000Z
DTEND:20260604T220000Z
CATEGORIES:Grundschule Berg
SUMMARY:Pfingstferien 26.05.2026 - 05.06.2026
LOCATION:Grundschule Berg
UID:ce8a9b543295fb53d39a09ebbcc20e69@d07472ac6746158869353e6051763beb
END:VEVENT
END:VCALENDAR