BEGIN:VCALENDAR
VERSION:1.0
PRODID:Open2CKalenderExportV11
BEGIN:VEVENT
DTSTAMP:20240624T122322Z
DTSTART:20240707T120000Z
DTEND:20240707T120000Z
CATEGORIES:Grundschule Berg
SUMMARY:Wiesenfestumzug Schulkinder
DESCRIPTION:
LOCATION:
UID:cdd991a18a6b6a7770efaacd89b8bd45-75218ca451171f931c7b89ac103b3cea
PRIORITY:3
END:VEVENT
END:VCALENDAR
