BEGIN:VCALENDAR
VERSION:1.0
PRODID:Open2CKalenderExportV11
BEGIN:VEVENT
DTSTAMP:20260109T075854Z
DTSTART:20260802T220000Z
DTEND:20260913T220000Z
CATEGORIES:Grundschule Berg
SUMMARY:Sommerferien 03.08.2026 - 14.09.2026
DESCRIPTION:
LOCATION:Grundschule Berg
UID:6499b034b27783361e4fd9c7afe6d1eb-13ef45fd025cffc43d0ea50199c7d410
PRIORITY:3
END:VEVENT
END:VCALENDAR
